BEGIN:VCALENDAR
VERSION:2.0
PRODID:-//Centre Evangélique Missionnaire Rouah - ECPv6.15.20//NONSGML v1.0//EN
CALSCALE:GREGORIAN
METHOD:PUBLISH
X-ORIGINAL-URL:https://www.egliserouah.com
X-WR-CALDESC:Évènements pour Centre Evangélique Missionnaire Rouah
REFRESH-INTERVAL;VALUE=DURATION:PT1H
X-Robots-Tag:noindex
X-PUBLISHED-TTL:PT1H
BEGIN:VTIMEZONE
TZID:Africa/Kinshasa
BEGIN:STANDARD
TZOFFSETFROM:+0100
TZOFFSETTO:+0100
TZNAME:WAT
DTSTART:20250101T000000
END:STANDARD
END:VTIMEZONE
BEGIN:VEVENT
DTSTART;TZID=Africa/Kinshasa:20260503T090000
DTEND;TZID=Africa/Kinshasa:20260503T123000
DTSTAMP:20260423T115107
CREATED:20260404T190203Z
LAST-MODIFIED:20260404T190203Z
UID:40690-1777798800-1777811400@www.egliserouah.com
SUMMARY:Culte Kabod
DESCRIPTION: 
URL:https://www.egliserouah.com/event/culte-kabod-4/
LOCATION:Kinshasa
CATEGORIES:Culte
ATTACH;FMTTYPE=image/jpeg:https://www.egliserouah.com/wp-content/uploads/2025/07/kabod-eglise-rouah.jpg
END:VEVENT
BEGIN:VEVENT
DTSTART;TZID=Africa/Kinshasa:20260607T090000
DTEND;TZID=Africa/Kinshasa:20260607T123000
DTSTAMP:20260423T115107
CREATED:20260404T190258Z
LAST-MODIFIED:20260404T190258Z
UID:40692-1780822800-1780835400@www.egliserouah.com
SUMMARY:Culte Kabod
DESCRIPTION: 
URL:https://www.egliserouah.com/event/culte-kabod-5/
LOCATION:CEM Rouah\, 13\, Avenue Tshela\, Mont-Ngafula\, Mont-Ngafula\, Kinshasa\, Congo\, Democratic Republic of the
CATEGORIES:Culte
ATTACH;FMTTYPE=image/jpeg:https://www.egliserouah.com/wp-content/uploads/2025/07/kabod-eglise-rouah.jpg
END:VEVENT
BEGIN:VEVENT
DTSTART;TZID=Africa/Kinshasa:20260705T090000
DTEND;TZID=Africa/Kinshasa:20260705T120000
DTSTAMP:20260423T115107
CREATED:20260404T195831Z
LAST-MODIFIED:20260404T195831Z
UID:40694-1783242000-1783252800@www.egliserouah.com
SUMMARY:Culte Kabod
DESCRIPTION: 
URL:https://www.egliserouah.com/event/culte-kabod-6/
LOCATION:CEM Rouah\, 13\, Avenue Tshela\, Mont-Ngafula\, Mont-Ngafula\, Kinshasa\, Congo\, Democratic Republic of the
CATEGORIES:Culte
ATTACH;FMTTYPE=image/jpeg:https://www.egliserouah.com/wp-content/uploads/2025/07/kabod-eglise-rouah.jpg
END:VEVENT
BEGIN:VEVENT
DTSTART;TZID=Africa/Kinshasa:20260802T090000
DTEND;TZID=Africa/Kinshasa:20260802T123000
DTSTAMP:20260423T115107
CREATED:20260404T200147Z
LAST-MODIFIED:20260404T200147Z
UID:40696-1785661200-1785673800@www.egliserouah.com
SUMMARY:Culte Kabod
DESCRIPTION: 
URL:https://www.egliserouah.com/event/culte-kabod-7/
LOCATION:CEM Rouah\, 13\, Avenue Tshela\, Mont-Ngafula\, Mont-Ngafula\, Kinshasa\, Congo\, Democratic Republic of the
CATEGORIES:Culte
ATTACH;FMTTYPE=image/jpeg:https://www.egliserouah.com/wp-content/uploads/2025/07/kabod-eglise-rouah.jpg
END:VEVENT
BEGIN:VEVENT
DTSTART;TZID=Africa/Kinshasa:20260906T090000
DTEND;TZID=Africa/Kinshasa:20260906T123000
DTSTAMP:20260423T115107
CREATED:20260404T200504Z
LAST-MODIFIED:20260404T200504Z
UID:40698-1788685200-1788697800@www.egliserouah.com
SUMMARY:Culte Kabod
DESCRIPTION: 
URL:https://www.egliserouah.com/event/culte-kabod-8/
LOCATION:CEM Rouah\, 13\, Avenue Tshela\, Mont-Ngafula\, Mont-Ngafula\, Kinshasa\, Congo\, Democratic Republic of the
CATEGORIES:Culte
ATTACH;FMTTYPE=image/jpeg:https://www.egliserouah.com/wp-content/uploads/2025/07/kabod-eglise-rouah.jpg
END:VEVENT
BEGIN:VEVENT
DTSTART;TZID=Africa/Kinshasa:20261004T090000
DTEND;TZID=Africa/Kinshasa:20261004T123000
DTSTAMP:20260423T115107
CREATED:20260404T203247Z
LAST-MODIFIED:20260404T203247Z
UID:40700-1791104400-1791117000@www.egliserouah.com
SUMMARY:Culte Kabod
DESCRIPTION: 
URL:https://www.egliserouah.com/event/culte-kabod-9/
LOCATION:CEM Rouah\, 13\, Avenue Tshela\, Mont-Ngafula\, Mont-Ngafula\, Kinshasa\, Congo\, Democratic Republic of the
CATEGORIES:Culte
ATTACH;FMTTYPE=image/jpeg:https://www.egliserouah.com/wp-content/uploads/2025/07/kabod-eglise-rouah.jpg
END:VEVENT
BEGIN:VEVENT
DTSTART;TZID=Africa/Kinshasa:20261101T090000
DTEND;TZID=Africa/Kinshasa:20261101T123000
DTSTAMP:20260423T115107
CREATED:20260404T204545Z
LAST-MODIFIED:20260404T204545Z
UID:40702-1793523600-1793536200@www.egliserouah.com
SUMMARY:Culte Kabod
DESCRIPTION: 
URL:https://www.egliserouah.com/event/culte-kabod-10/
LOCATION:CEM Rouah\, 13\, Avenue Tshela\, Mont-Ngafula\, Mont-Ngafula\, Kinshasa\, Congo\, Democratic Republic of the
CATEGORIES:Culte
ATTACH;FMTTYPE=image/jpeg:https://www.egliserouah.com/wp-content/uploads/2025/07/kabod-eglise-rouah.jpg
END:VEVENT
BEGIN:VEVENT
DTSTART;TZID=Africa/Kinshasa:20261206T090000
DTEND;TZID=Africa/Kinshasa:20261206T123000
DTSTAMP:20260423T115107
CREATED:20260404T204905Z
LAST-MODIFIED:20260404T204905Z
UID:40704-1796547600-1796560200@www.egliserouah.com
SUMMARY:Culte Kabod
DESCRIPTION: 
URL:https://www.egliserouah.com/event/culte-kabod-11/
LOCATION:CEM Rouah\, 13\, Avenue Tshela\, Mont-Ngafula\, Mont-Ngafula\, Kinshasa\, Congo\, Democratic Republic of the
CATEGORIES:Culte
ATTACH;FMTTYPE=image/jpeg:https://www.egliserouah.com/wp-content/uploads/2025/07/kabod-eglise-rouah.jpg
END:VEVENT
END:VCALENDAR