BEGIN:VCALENDAR
VERSION:2.0
PRODID:-//Centre Evangélique Missionnaire Rouah - ECPv6.15.20//NONSGML v1.0//EN
CALSCALE:GREGORIAN
METHOD:PUBLISH
X-WR-CALNAME:Centre Evangélique Missionnaire Rouah
X-ORIGINAL-URL:https://www.egliserouah.com
X-WR-CALDESC:Évènements pour Centre Evangélique Missionnaire Rouah
REFRESH-INTERVAL;VALUE=DURATION:PT1H
X-Robots-Tag:noindex
X-PUBLISHED-TTL:PT1H
BEGIN:VTIMEZONE
TZID:Africa/Kinshasa
BEGIN:STANDARD
TZOFFSETFROM:+0100
TZOFFSETTO:+0100
TZNAME:WAT
DTSTART:20240101T000000
END:STANDARD
END:VTIMEZONE
BEGIN:VEVENT
DTSTART;TZID=Africa/Kinshasa:20250525T083000
DTEND;TZID=Africa/Kinshasa:20250525T100000
DTSTAMP:20260424T045629
CREATED:20250521T152343Z
LAST-MODIFIED:20250521T152343Z
UID:40031-1748161800-1748167200@www.egliserouah.com
SUMMARY:1er Culte
DESCRIPTION:
URL:https://www.egliserouah.com/event/1er-culte/
LOCATION:Kinshasa
CATEGORIES:Culte
END:VEVENT
BEGIN:VEVENT
DTSTART;TZID=Africa/Kinshasa:20250525T103000
DTEND;TZID=Africa/Kinshasa:20250525T123000
DTSTAMP:20260424T045629
CREATED:20250521T153435Z
LAST-MODIFIED:20250521T153435Z
UID:40033-1748169000-1748176200@www.egliserouah.com
SUMMARY:2ème Culte
DESCRIPTION:
URL:https://www.egliserouah.com/event/2eme-culte/
LOCATION:Kinshasa
CATEGORIES:Culte
END:VEVENT
END:VCALENDAR