BEGIN:VCALENDAR
VERSION:2.0
PRODID:-//Centre Evangélique Missionnaire Rouah - ECPv6.15.20//NONSGML v1.0//EN
CALSCALE:GREGORIAN
METHOD:PUBLISH
X-ORIGINAL-URL:https://www.egliserouah.com
X-WR-CALDESC:Évènements pour Centre Evangélique Missionnaire Rouah
REFRESH-INTERVAL;VALUE=DURATION:PT1H
X-Robots-Tag:noindex
X-PUBLISHED-TTL:PT1H
BEGIN:VTIMEZONE
TZID:Africa/Kinshasa
BEGIN:STANDARD
TZOFFSETFROM:+0100
TZOFFSETTO:+0100
TZNAME:WAT
DTSTART:20250101T000000
END:STANDARD
END:VTIMEZONE
BEGIN:VEVENT
DTSTART;TZID=Africa/Kinshasa:20260503T090000
DTEND;TZID=Africa/Kinshasa:20260503T123000
DTSTAMP:20260423T151536
CREATED:20260404T190203Z
LAST-MODIFIED:20260404T190203Z
UID:40690-1777798800-1777811400@www.egliserouah.com
SUMMARY:Culte Kabod
DESCRIPTION: 
URL:https://www.egliserouah.com/event/culte-kabod-4/
LOCATION:Kinshasa
CATEGORIES:Culte
ATTACH;FMTTYPE=image/jpeg:https://www.egliserouah.com/wp-content/uploads/2025/07/kabod-eglise-rouah.jpg
END:VEVENT
END:VCALENDAR